BEGIN:VCALENDAR
VERSION:2.0
PRODID:-//TX Corporation Ltd//NONSGML tixtu.com//EN
BEGIN:VEVENT
UID:info+ussu-citrus-white-lies-06-03-24@tixtu.com
URL:https://www.tixtu.com/t/event/ussu/citrus-white-lies-06-03-24
DTSTAMP:Thu Apr 23 13:34:13 UTC 2026
DTSTART:Wed Mar 06 22:30:00 UTC 2024
DTEND:Wed Mar 06 22:30:00 UTC 2024
ORGANIZER;CN=Surrey Students' Union:MAILTO:ussu.information@surrey.ac.uk
SUMMARY:Citrus White Lies
LOCATION:Rubix\,University of Surrey\, Guildford\, Surrey\, GU2 7XH
GEO:51.242176;-0.58645934
DESCRIPTION:With added zest!
END:VEVENT
END:VCALENDAR