BEGIN:VCALENDAR
VERSION:2.0
PRODID:-//TX Corporation Ltd//NONSGML tixtu.com//EN
BEGIN:VEVENT
UID:info+ussu-future-presents-hoedown-showdown-25-10-24@tixtu.com
URL:https://www.tixtu.com/t/event/ussu/future-presents-hoedown-showdown-25-10-24
DTSTAMP:Wed Apr 22 22:09:16 UTC 2026
DTSTART:Fri Oct 25 22:00:00 UTC 2024
DTEND:Fri Oct 25 22:00:00 UTC 2024
ORGANIZER;CN=Surrey Students' Union:MAILTO:ussu.information@surrey.ac.uk
SUMMARY:Future presents Hoedown Showdown
LOCATION:Rubix\,University of Surrey\, Guildford\, Surrey\, GU2 7XH
GEO:51.242176;-0.58645934
DESCRIPTION:
END:VEVENT
END:VCALENDAR