BEGIN:VCALENDAR
VERSION:2.0
PRODID:-//TX Corporation Ltd//NONSGML tixtu.com//EN
BEGIN:VEVENT
UID:info+ussu-hammered-for-charity-coachella-party-night@tixtu.com
URL:https://www.tixtu.com/t/event/ussu/hammered-for-charity-coachella-party-night
DTSTAMP:Mon Apr 20 20:07:53 UTC 2026
DTSTART:Fri May 01 22:00:00 UTC 2026
DTEND:Fri May 01 22:00:00 UTC 2026
ORGANIZER;CN=Surrey Students' Union:MAILTO:ussu.information@surrey.ac.uk
SUMMARY:Hammered for Charity - COACHELLA PARTY NIGHT
LOCATION:Rubix\,University of Surrey\, Guildford\, Surrey\, GU2 7XH
GEO:51.242176;-0.58645934
DESCRIPTION:🍻GET HAMMERED FOR CHARITY- COACHELLA PARTY NIGHT 🍻  FRIDAY 1ST MAY — RUBIX
END:VEVENT
END:VCALENDAR