BEGIN:VCALENDAR
VERSION:2.0
PRODID:-//TX Corporation Ltd//NONSGML tixtu.com//EN
BEGIN:VEVENT
UID:info+ussu-hispanic-night@tixtu.com
URL:https://www.tixtu.com/t/event/ussu/hispanic-night
DTSTAMP:Tue Apr 21 00:34:50 UTC 2026
DTSTART:Tue Oct 26 21:00:00 UTC 2021
DTEND:Tue Oct 26 21:00:00 UTC 2021
ORGANIZER;CN=Surrey Students' Union:MAILTO:ussu.information@surrey.ac.uk
SUMMARY:Hispanic Night
LOCATION:The Basement\,University of Surrey\, Guildford\, Surrey\, GU2 7XH
GEO:51.242218;-0.58618844
DESCRIPTION:Hispanic night event!!! Halloween is here!!
END:VEVENT
END:VCALENDAR