BEGIN:VCALENDAR
VERSION:2.0
PRODID:-//TX Corporation Ltd//NONSGML tixtu.com//EN
BEGIN:VEVENT
UID:info+ussu-the-big-community-christmas-dinner-11-12-24@tixtu.com
URL:https://www.tixtu.com/t/event/ussu/the-big-community-christmas-dinner-11-12-24
DTSTAMP:Tue Apr 21 18:16:14 UTC 2026
DTSTART:Wed Dec 11 18:00:00 UTC 2024
DTEND:Wed Dec 11 18:00:00 UTC 2024
ORGANIZER;CN=Surrey Students' Union:MAILTO:ussu.information@surrey.ac.uk
SUMMARY:The Big Community Christmas Dinner
LOCATION:The Basement\,University of Surrey\, Guildford\, Surrey\, GU2 7XH
GEO:51.242218;-0.58618844
DESCRIPTION:
END:VEVENT
END:VCALENDAR