BEGIN:VCALENDAR
VERSION:2.0
PRODID:-//TX Corporation Ltd//NONSGML tixtu.com//EN
BEGIN:VEVENT
UID:info+ussu-tp-fright-nights-transport-only@tixtu.com
URL:https://www.tixtu.com/t/event/ussu/tp-fright-nights-transport-only
DTSTAMP:Thu Apr 23 05:29:27 UTC 2026
DTSTART:Sat Oct 26 10:45:00 UTC 2024
DTEND:Sat Oct 26 10:45:00 UTC 2024
ORGANIZER;CN=Surrey Students' Union:MAILTO:ussu.information@surrey.ac.uk
SUMMARY:TP Fright Nights Transport Only
LOCATION:AP Plaza\,Austin Pearce Building\, University of Surrey\, Guildford\, Surrey\, GU2 7XH
GEO:51.244;-0.5893661
DESCRIPTION:
END:VEVENT
END:VCALENDAR