BEGIN:VCALENDAR
VERSION:2.0
PRODID:-//TX Corporation Ltd//NONSGML tixtu.com//EN
BEGIN:VEVENT
UID:info+ussu-vip-booking-fetish-night@tixtu.com
URL:https://www.tixtu.com/t/event/ussu/vip-booking-fetish-night
DTSTAMP:Fri Apr 24 07:58:42 UTC 2026
DTSTART:Fri Apr 26 21:55:00 UTC 2024
DTEND:Fri Apr 26 21:55:00 UTC 2024
ORGANIZER;CN=Surrey Students' Union:MAILTO:ussu.information@surrey.ac.uk
SUMMARY:VIP Booking Fetish Night
LOCATION:Rubix\,University of Surrey\, Guildford\, Surrey\, GU2 7XH
GEO:51.242176;-0.58645934
DESCRIPTION:VIP Package for Fetish Night!
END:VEVENT
END:VCALENDAR