BEGIN:VCALENDAR
VERSION:2.0
PRODID:-//TX Corporation Ltd//NONSGML tixtu.com//EN
BEGIN:VEVENT
UID:info+ussu-vk-cosmic-paint-party-24-09-21@tixtu.com
URL:https://www.tixtu.com/t/event/ussu/vk-cosmic-paint-party-24-09-21
DTSTAMP:Sat Apr 25 20:47:48 UTC 2026
DTSTART:Fri Sep 24 22:00:00 UTC 2021
DTEND:Fri Sep 24 22:00:00 UTC 2021
ORGANIZER;CN=Surrey Students' Union:MAILTO:ussu.information@surrey.ac.uk
SUMMARY:VK Cosmic Paint Party
LOCATION:Rubix and The Basement\,University of Surrey\, Guildford\, Surrey\, GU2 7XH
GEO:51.242126;-0.58654845
DESCRIPTION:
END:VEVENT
END:VCALENDAR