BEGIN:VCALENDAR
VERSION:2.0
PRODID:-//TX Corporation Ltd//NONSGML tixtu.com//EN
BEGIN:VEVENT
UID:info+ussua-2023-surrey-dance-competition-@tixtu.com
URL:https://www.tixtu.com/t/event/ussua/2023-surrey-dance-competition-
DTSTAMP:Thu Apr 23 08:42:04 UTC 2026
DTSTART:Sun Mar 26 08:00:00 UTC 2023
DTEND:Sun Mar 26 08:00:00 UTC 2023
ORGANIZER;CN=Surrey Students' Union Activities:MAILTO:ussu.boxoffice@surrey.ac.uk
SUMMARY:2023 Surrey Dance Competition!
LOCATION:Surrey Sports Park\,Richard Meyjes Rd\, Guildford \, GU2 7AD
GEO:51.236427;-0.6073366
DESCRIPTION:
END:VEVENT
END:VCALENDAR