BEGIN:VCALENDAR
VERSION:2.0
PRODID:-//TX Corporation Ltd//NONSGML tixtu.com//EN
BEGIN:VEVENT
UID:info+ussua-bath@tixtu.com
URL:https://www.tixtu.com/t/event/ussua/bath
DTSTAMP:Wed Apr 22 16:26:59 UTC 2026
DTSTART:Sat Oct 08 09:00:00 UTC 2022
DTEND:Sat Oct 08 09:00:00 UTC 2022
ORGANIZER;CN=Surrey Students' Union Activities:MAILTO:ussu.boxoffice@surrey.ac.uk
SUMMARY:Day trip to Bath
LOCATION:Lakeside\,Rik Medlik Building\, Guildford \, GU2 7XH
GEO:51.244118;-0.5883494
DESCRIPTION:One of the UK’s most elegant city, full of tradition, culture, and many surprises
END:VEVENT
END:VCALENDAR