BEGIN:VCALENDAR
VERSION:2.0
PRODID:-//TX Corporation Ltd//NONSGML tixtu.com//EN
BEGIN:VEVENT
UID:info+ussua-fireworks-fiesta-04-11-23@tixtu.com
URL:https://www.tixtu.com/t/event/ussua/fireworks-fiesta-04-11-23
DTSTAMP:Sat Apr 25 15:53:29 UTC 2026
DTSTART:Sat Nov 04 17:00:00 UTC 2023
DTEND:Sat Nov 04 17:00:00 UTC 2023
ORGANIZER;CN=Surrey Students' Union Activities:MAILTO:ussu.boxoffice@surrey.ac.uk
SUMMARY:Fireworks Fiesta
LOCATION:Stoke Park\,Nightingale Rd\, Guildford \, GU1 1ER
GEO:51.241325;-0.56532
DESCRIPTION:Live Music & Firework Extravaganza 
END:VEVENT
END:VCALENDAR